BEGIN:VCALENDAR
VERSION:2.0
CREATED:20260402T134952Z
PRODID:-//AerCap Holdings N.V./Equisolve Calendar v1.0//EN
METHOD:PUBLISH
BEGIN:VEVENT
UID:66080cd5a0bef3b6fa17f069008bb0b6
DTSTAMP:20260424T151309Z
DTSTART:20260429T123000Z
DTEND:20260429T133000Z
SUMMARY:Q1 2026 Financial Results
DESCRIPTION:Q1 2026 Financial Results
Date: Apr 29\, 2026 8:30am EDT
Webcast: /webcast-registration?event_id=14684
END:VEVENT
END:VCALENDAR
